BEGIN:VCALENDAR
METHOD:PUBLISH
PRODID:www-kunstgeschichte-phil-fau-de//Events//DE
VERSION:2.0
BEGIN:VEVENT
SUMMARY:"Heldenmut und Verzweiflung. Anselm Kiefers Arbeiten im Parise
 r Panthéon als subversive Interventionen"\, Vortrag von Prof. Dr. Str
 unck
UID:7a6c-45dc-b620-19563@www.kunstgeschichte.phil.fau.de
DTSTART:20231031T180000Z
DTEND:20231031T200000Z
LOCATION:Düsseldorf\, Haus der Universität
DTSTAMP:20260424T012712Z
END:VEVENT
END:VCALENDAR