BEGIN:VCALENDAR
METHOD:PUBLISH
PRODID:www-kunstgeschichte-phil-fau-de//Events//DE
VERSION:2.0
BEGIN:VEVENT
SUMMARY:"Generating Dialogue: Engaging with the Humanities through AI 
 Conversations"\, Vortrag im Rahmen der Vortragsreihe „Close Reading 
 & Distant Viewing“
UID:8d41-90d8-cb8a-20768@www.kunstgeschichte.phil.fau.de
DESCRIPTION:von Dr. Liz Neely (Georgia O’Keeffe Museum\, Santa Fe) V
 ortragsreihe &#8222\;Close Reading&#8220\; im Wintersemester 2024/25 &
 nbsp\;
DTSTART:20250203T181500Z
DTEND:20250203T200000Z
LOCATION:via Zoom
DTSTAMP:20260420T173024Z
END:VEVENT
END:VCALENDAR