BEGIN:VCALENDAR
METHOD:PUBLISH
PRODID:www-kunstgeschichte-phil-fau-de//Events//DE
VERSION:2.0
BEGIN:VEVENT
SUMMARY:Vortrag: „Der Marmor ist der Verlobte des Lichts“. Konzept
 e der Belebung des Steins
UID:c187-ccfd-ab3e-21799@www.kunstgeschichte.phil.fau.de
DESCRIPTION:Vortrag von Prof. Dr. Monika Wagner Vortrag im Kunstpalais
  im Rahmen des DFG-Netzwerk-Workshops &nbsp\;
DTSTART:20250324T190000Z
DTEND:20250324T200000Z
LOCATION:Erlangen\, Kunstpalais
DTSTAMP:20260424T234646Z
END:VEVENT
END:VCALENDAR