BEGIN:VCALENDAR
METHOD:PUBLISH
PRODID:www-kunstgeschichte-phil-fau-de//Events//DE
VERSION:2.0
BEGIN:VEVENT
SUMMARY:Dr. Anna Frasca-Rath: Ökologie und Marmor. Rachel Cusks Marbl
 e in Metamorphosis und die Steinsammlung der TU München\, Vortrag im 
 Rahmen der Veranstaltungsreihe zum Jubliäum
UID:e2e9-1ead-bb65-22726@www.kunstgeschichte.phil.fau.de
DESCRIPTION:Veranstaltungsreihe im WiSe 2025/26
DTSTART:20260114T181500Z
DTEND:20260114T193000Z
LOCATION:Kollegienhaus KH 1.013\, Universitätsstr. 15\, 91054 Erlangen
DTSTAMP:20260422T032045Z
END:VEVENT
END:VCALENDAR