BEGIN:VCALENDAR
METHOD:PUBLISH
PRODID:www-kunstgeschichte-phil-fau-de//Events//DE
VERSION:2.0
BEGIN:VEVENT
SUMMARY:KUNSTGESCHICHTE & BERUF: Übersetzen und Augen öffnen – Kun
 stvermittlung im Museum
UID:5369-46bd-2e8e-23363@www.kunstgeschichte.phil.fau.de
DESCRIPTION:Kunstgeschichte und Beruf im SoSe 2026 Vortrag von Johanne
 s Berges-Grunert M.A. / Leitung der Kunstvermittlung am Kunstpalais Er
 langen
DTSTART:20260520T141500Z
DTEND:20260520T154500Z
LOCATION:Institut für Kunstgeschichte\, Mediathek (00.027)\, Orangerie
DTSTAMP:20260421T035400Z
END:VEVENT
END:VCALENDAR